BEGIN:VCALENDAR
VERSION:2.0
PRODID:-//Lamemba - ECPv6.15.20//NONSGML v1.0//EN
CALSCALE:GREGORIAN
METHOD:PUBLISH
X-WR-CALNAME:Lamemba
X-ORIGINAL-URL:https://lamemba.or.id/en
X-WR-CALDESC:Events for Lamemba
REFRESH-INTERVAL;VALUE=DURATION:PT1H
X-Robots-Tag:noindex
X-PUBLISHED-TTL:PT1H
BEGIN:VTIMEZONE
TZID:Asia/Krasnoyarsk
BEGIN:STANDARD
TZOFFSETFROM:+0700
TZOFFSETTO:+0700
TZNAME:+07
DTSTART:20220101T000000
END:STANDARD
END:VTIMEZONE
BEGIN:VEVENT
DTSTART;TZID=Asia/Krasnoyarsk:20231208T090000
DTEND;TZID=Asia/Krasnoyarsk:20231208T230000
DTSTAMP:20260423T045534
CREATED:20250822T161311Z
LAST-MODIFIED:20250822T161746Z
UID:50182-1702026000-1702076400@lamemba.or.id
SUMMARY:PENGUMUMAN TENTANG KONSULTASI INSTRUMEN AKREDITASI PROGRAM STUDI EMBA
DESCRIPTION:Sehubungan dengan dimulainya proses Akreditasi Program Studi (APS) EMBA pada tanggal 31 Maret 2022\, dengan ini diumumkan kepada Program Studi Bidang EMBA yang ingin berkonsultasi mengenai Instrumen APS EMBA\, LAMEMBA menyediakan ruang zoom untuk berkonsultasi dengan jadwal sebagai berikut:1. Layanan Konsultasi dilaksanakan pada hari Jumat\, 08 Desember 2023.\n2. Ruangan Konsultasi via zoom dibuka pukul 09.00 -11.00 WIB\, Meeting ID 821 179 7732 dengan maksimal 300 peserta.\nDemikian Pengumuman ini disampaikan\, atas perhatian dan kerjasamanya kami ucapkan terima kasih.
URL:https://lamemba.or.id/en/event/pengumuman-tentang-konsultasi-instrumen-akreditasi-program-studi-emba-12/
CATEGORIES:event
END:VEVENT
BEGIN:VEVENT
DTSTART;TZID=Asia/Krasnoyarsk:20231013T090000
DTEND;TZID=Asia/Krasnoyarsk:20231013T230000
DTSTAMP:20260423T045534
CREATED:20250822T161311Z
LAST-MODIFIED:20250822T161746Z
UID:50183-1697187600-1697238000@lamemba.or.id
SUMMARY:PENGUMUMAN TENTANG KONSULTASI INSTRUMEN AKREDITASI PROGRAM STUDI EMBA
DESCRIPTION:Sehubungan dengan dimulainya proses Akreditasi Program Studi (APS) EMBA pada tanggal 31 Maret 2022\, dengan ini diumumkan kepada Program Studi Bidang EMBA yang ingin berkonsultasi mengenai Instrumen APS EMBA\, LAMEMBA menyediakan ruang zoom untuk berkonsultasi dengan jadwal sebagai berikut:1. Layanan Konsultasi dilaksanakan pada hari Jumat\, 13 Oktober 2023.\n2. Ruangan Konsultasi via zoom dibuka pukul 09.00 -11.00 WIB\, Meeting ID 821 179 7732 dengan maksimal 300 peserta.\nDemikian Pengumuman ini disampaikan\, atas perhatian dan kerjasamanya kami ucapkan terima kasih.
URL:https://lamemba.or.id/en/event/pengumuman-tentang-konsultasi-instrumen-akreditasi-program-studi-emba-13/
CATEGORIES:event
END:VEVENT
BEGIN:VEVENT
DTSTART;TZID=Asia/Krasnoyarsk:20230901T090000
DTEND;TZID=Asia/Krasnoyarsk:20230901T230000
DTSTAMP:20260423T045534
CREATED:20250822T161311Z
LAST-MODIFIED:20250822T161746Z
UID:50184-1693558800-1693609200@lamemba.or.id
SUMMARY:PENGUMUMAN TENTANG KONSULTASI INSTRUMEN AKREDITASI PROGRAM STUDI EMBA
DESCRIPTION:Sehubungan dengan dimulainya proses Akreditasi Program Studi (APS) EMBA pada tanggal 31 Maret 2022\, dengan ini diumumkan kepada Program Studi Bidang EMBA yang ingin berkonsultasi mengenai Instrumen APS EMBA\, LAMEMBA menyediakan ruang zoom untuk berkonsultasi dengan jadwal sebagai berikut:1. Layanan Konsultasi dilaksanakan pada hari Jumat\, 01 September 2023.\n2. Ruangan Konsultasi via zoom dibuka pukul 09.00 -11.00 WIB\, Meeting ID 821 179 7732 dengan maksimal 300 peserta.\nDemikian Pengumuman ini disampaikan\, atas perhatian dan kerjasamanya kami ucapkan terima kasih.
URL:https://lamemba.or.id/en/event/pengumuman-tentang-konsultasi-instrumen-akreditasi-program-studi-emba-14/
CATEGORIES:event
END:VEVENT
END:VCALENDAR